BEGIN:VCALENDAR
VERSION:2.0
PRODID:-//MediaDesign//MediaDesign.at//DE
CALSCALE:GREGORIAN
BEGIN:VEVENT
DTSTART:20200829T203000
DTEND:20200829T213000
LOCATION:3580 Horn
DTSTAMP:20260423T012842
SUMMARY:Franzl und Robert
URL;VALUE=URI:https://horn.gv.at
DESCRIPTION:Allegro Vivo Festival
UID:20260423T012842-20200829T203000-20200829T213000
END:VEVENT
END:VCALENDAR