BEGIN:VCALENDAR
VERSION:2.0
PRODID:-//MediaDesign//MediaDesign.at//DE
CALSCALE:GREGORIAN
BEGIN:VEVENT
DTSTART:20200827T193000
DTEND:20200827T203000
LOCATION:Wiener Str. 2\, 3580 Horn
DTSTAMP:20260423T042208
SUMMARY:Begeisterung
URL;VALUE=URI:https://horn.gv.at
DESCRIPTION:Allegro Vivo Festival
UID:20260423T042208-20200827T193000-20200827T203000
END:VEVENT
END:VCALENDAR