BEGIN:VCALENDAR
VERSION:2.0
PRODID:-//MediaDesign//MediaDesign.at//DE
CALSCALE:GREGORIAN
BEGIN:VEVENT
DTSTART:20200826T193000
DTEND:20200826T203000
LOCATION:Abt-Placidus-Much Str. 1\, 3591 Altenburg
DTSTAMP:20260423T054345
SUMMARY:Strmische Begegnung
URL;VALUE=URI:https://horn.gv.at
DESCRIPTION:Auserlesenes
UID:20260423T054345-20200826T193000-20200826T203000
END:VEVENT
END:VCALENDAR