BEGIN:VCALENDAR
VERSION:2.0
PRODID:-//MediaDesign//MediaDesign.at//DE
CALSCALE:GREGORIAN
BEGIN:VEVENT
DTSTART:20200823T110000
DTEND:20200823T120000
LOCATION:Wiener Str. 2\, 3580 Horn
DTSTAMP:20260423T080842
SUMMARY:Trume  Leidenschaft
URL;VALUE=URI:https://horn.gv.at
DESCRIPTION:Allegro Vivo Kunstverein Horn
UID:20260423T080842-20200823T110000-20200823T120000
END:VEVENT
END:VCALENDAR