BEGIN:VCALENDAR
VERSION:2.0
PRODID:-//MediaDesign//MediaDesign.at//DE
CALSCALE:GREGORIAN
BEGIN:VEVENT
DTSTART:20200822T200000
DTEND:20200822T210000
LOCATION:Wiener Str. 2\, 3580 Horn
DTSTAMP:20260423T092625
SUMMARY:Con Brio Galakonzert
URL;VALUE=URI:https://horn.gv.at
DESCRIPTION:Allegro Vivo Festival
UID:20260423T092625-20200822T200000-20200822T210000
END:VEVENT
END:VCALENDAR