BEGIN:VCALENDAR
VERSION:2.0
PRODID:-//MediaDesign//MediaDesign.at//DE
CALSCALE:GREGORIAN
BEGIN:VEVENT
DTSTART:20200820T193000
DTEND:20200820T203000
LOCATION:Wiener Str. 2\, 3580 Horn
DTSTAMP:20260423T155307
SUMMARY:Open Space
URL;VALUE=URI:https://horn.gv.at
DESCRIPTION:Allegro Vivo Festival
UID:20260423T155307-20200820T193000-20200820T203000
END:VEVENT
END:VCALENDAR