BEGIN:VCALENDAR
VERSION:2.0
PRODID:-//MediaDesign//MediaDesign.at//DE
CALSCALE:GREGORIAN
BEGIN:VEVENT
DTSTART:20200819T193000
DTEND:20200819T203000
LOCATION:Abt-Placidus-Much Str. 1\, 3591 Altenburg
DTSTAMP:20260423T171653
SUMMARY:Hingebungsvoll
URL;VALUE=URI:https://horn.gv.at
DESCRIPTION:Allegro Vivo Festival
UID:20260423T171653-20200819T193000-20200819T203000
END:VEVENT
END:VCALENDAR