BEGIN:VCALENDAR
VERSION:2.0
PRODID:-//MediaDesign//MediaDesign.at//DE
CALSCALE:GREGORIAN
BEGIN:VEVENT
DTSTART:20200812T193000
DTEND:20200812T203000
LOCATION:Abt Placidus Much-Straße 1\, 3591 Altenburg
DTSTAMP:20260424T062017
SUMMARY:Allegro appassionato 
URL;VALUE=URI:https://horn.gv.at
DESCRIPTION:Allegro Vivo Festival
UID:20260424T062017-20200812T193000-20200812T203000
END:VEVENT
END:VCALENDAR