BEGIN:VCALENDAR
VERSION:2.0
PRODID:-//MediaDesign//MediaDesign.at//DE
CALSCALE:GREGORIAN
BEGIN:VEVENT
DTSTART:20200809T160000
DTEND:20200809T170000
LOCATION:3591 Altenburg\, Abt-Placidus-Much Str. 1
DTSTAMP:20260424T123221
SUMMARY:Allegro Vivo Leidenschaft
URL;VALUE=URI:https://horn.gv.at
DESCRIPTION:Erffnungskonzert
UID:20260424T123221-20200809T160000-20200809T170000
END:VEVENT
END:VCALENDAR