BEGIN:VCALENDAR
VERSION:2.0
PRODID:-//MediaDesign//MediaDesign.at//DE
CALSCALE:GREGORIAN
BEGIN:VEVENT
DTSTART:20200808T193000
DTEND:20200808T203000
LOCATION:3591 Altenburg\, Abt-Placidus-Much Str. 1
DTSTAMP:20260424T152320
SUMMARY:Allegro Vivo Prludium
URL;VALUE=URI:https://horn.gv.at
DESCRIPTION:Werke von Beethoven Batik
UID:20260424T152320-20200808T193000-20200808T203000
END:VEVENT
END:VCALENDAR